BEGIN:VCALENDAR
VERSION:2.0
PRODID:-// - ECPv6.15.20//NONSGML v1.0//EN
CALSCALE:GREGORIAN
METHOD:PUBLISH
X-ORIGINAL-URL:https://magnetawanlibrary.com
X-WR-CALDESC:Events for 
REFRESH-INTERVAL;VALUE=DURATION:PT1H
X-Robots-Tag:noindex
X-PUBLISHED-TTL:PT1H
BEGIN:VTIMEZONE
TZID:America/Toronto
BEGIN:DAYLIGHT
TZOFFSETFROM:-0500
TZOFFSETTO:-0400
TZNAME:EDT
DTSTART:20250309T070000
END:DAYLIGHT
BEGIN:STANDARD
TZOFFSETFROM:-0400
TZOFFSETTO:-0500
TZNAME:EST
DTSTART:20251102T060000
END:STANDARD
BEGIN:DAYLIGHT
TZOFFSETFROM:-0500
TZOFFSETTO:-0400
TZNAME:EDT
DTSTART:20260308T070000
END:DAYLIGHT
BEGIN:STANDARD
TZOFFSETFROM:-0400
TZOFFSETTO:-0500
TZNAME:EST
DTSTART:20261101T060000
END:STANDARD
BEGIN:DAYLIGHT
TZOFFSETFROM:-0500
TZOFFSETTO:-0400
TZNAME:EDT
DTSTART:20270314T070000
END:DAYLIGHT
BEGIN:STANDARD
TZOFFSETFROM:-0400
TZOFFSETTO:-0500
TZNAME:EST
DTSTART:20271107T060000
END:STANDARD
END:VTIMEZONE
BEGIN:VEVENT
DTSTART;TZID=America/Toronto:20260321T110000
DTEND;TZID=America/Toronto:20260321T140000
DTSTAMP:20260422T072120
CREATED:20260310T171724Z
LAST-MODIFIED:20260310T171726Z
UID:1580-1774090800-1774101600@magnetawanlibrary.com
SUMMARY:MARCH BREAK!
DESCRIPTION:Join us for March Break at the Library! Starting Tuesday March 17th\, each day from 11am – 2pm we will be having crafts and activities at the library! Follow us on Facebook to find what’s happening each day!
URL:https://magnetawanlibrary.com/event/march-break/
ATTACH;FMTTYPE=image/png:https://magnetawanlibrary.com/wp-content/uploads/2026/03/march-Break-1.png
END:VEVENT
BEGIN:VEVENT
DTSTART;TZID=America/Toronto:20260325T130000
DTEND;TZID=America/Toronto:20260325T160000
DTSTAMP:20260422T072120
CREATED:20260310T172356Z
LAST-MODIFIED:20260310T172358Z
UID:1583-1774443600-1774454400@magnetawanlibrary.com
SUMMARY:Crafting with Neighbours
DESCRIPTION:Join us at the library and learn the art of paper quilling! \n\n\n\n$10/person\, please register by calling or coming into the library.
URL:https://magnetawanlibrary.com/event/crafting-with-neighbours/
ATTACH;FMTTYPE=image/png:https://magnetawanlibrary.com/wp-content/uploads/2026/03/crafting.png
END:VEVENT
END:VCALENDAR