BEGIN:VCALENDAR
VERSION:2.0
PRODID:-// - ECPv6.15.20//NONSGML v1.0//EN
CALSCALE:GREGORIAN
METHOD:PUBLISH
X-ORIGINAL-URL:https://magnetawanlibrary.com
X-WR-CALDESC:Events for 
REFRESH-INTERVAL;VALUE=DURATION:PT1H
X-Robots-Tag:noindex
X-PUBLISHED-TTL:PT1H
BEGIN:VTIMEZONE
TZID:America/Toronto
BEGIN:DAYLIGHT
TZOFFSETFROM:-0500
TZOFFSETTO:-0400
TZNAME:EDT
DTSTART:20250309T070000
END:DAYLIGHT
BEGIN:STANDARD
TZOFFSETFROM:-0400
TZOFFSETTO:-0500
TZNAME:EST
DTSTART:20251102T060000
END:STANDARD
BEGIN:DAYLIGHT
TZOFFSETFROM:-0500
TZOFFSETTO:-0400
TZNAME:EDT
DTSTART:20260308T070000
END:DAYLIGHT
BEGIN:STANDARD
TZOFFSETFROM:-0400
TZOFFSETTO:-0500
TZNAME:EST
DTSTART:20261101T060000
END:STANDARD
BEGIN:DAYLIGHT
TZOFFSETFROM:-0500
TZOFFSETTO:-0400
TZNAME:EDT
DTSTART:20270314T070000
END:DAYLIGHT
BEGIN:STANDARD
TZOFFSETFROM:-0400
TZOFFSETTO:-0500
TZNAME:EST
DTSTART:20271107T060000
END:STANDARD
END:VTIMEZONE
BEGIN:VEVENT
DTSTART;TZID=America/Toronto:20260623T100000
DTEND;TZID=America/Toronto:20260623T170000
DTSTAMP:20260422T182321
CREATED:20260310T171339Z
LAST-MODIFIED:20260310T171343Z
UID:1577-1782208800-1782234000@magnetawanlibrary.com
SUMMARY:Fellowship with Friends
DESCRIPTION:Starts NOW and runs until the end of June.  \n\n\n\nEvery Tuesday\, 10 am-5 pm. Come on in and play cards\, boardgames\, puzzles\, or work on a craft project!
URL:https://magnetawanlibrary.com/event/fellowship-with-friends/
ATTACH;FMTTYPE=image/png:https://magnetawanlibrary.com/wp-content/uploads/2026/03/Join-us-for-some-Fellowship-Time.png
END:VEVENT
END:VCALENDAR